BEGIN:VCALENDAR
VERSION:2.0
PRODID:-//wp-events-plugin.com//7.2.3.1//EN
TZID:America/New_York
X-WR-TIMEZONE:America/New_York
BEGIN:VEVENT
UID:15144@baldwinmemorial.org
DTSTART;TZID=America/New_York:20230506T120000
DTEND;TZID=America/New_York:20230506T150000
DTSTAMP:20230219T013523Z
URL:https://www.baldwinmemorial.org/events/uwif-spring-luncheon/
SUMMARY:UWIF Spring Luncheon "Saturday in the Park"
DESCRIPTION:
END:VEVENT
BEGIN:VTIMEZONE
TZID:America/New_York
X-LIC-LOCATION:America/New_York
BEGIN:DAYLIGHT
DTSTART:20230312T030000
TZOFFSETFROM:-0500
TZOFFSETTO:-0400
TZNAME:EDT
END:DAYLIGHT
END:VTIMEZONE
END:VCALENDAR