BEGIN:VCALENDAR
VERSION:2.0
PRODID:-//wp-events-plugin.com//7.2.3.1//EN
TZID:America/New_York
X-WR-TIMEZONE:America/New_York
BEGIN:VEVENT
UID:867@baldwinmemorial.org
DTSTART;TZID=America/New_York:20220501T100000
DTEND;TZID=America/New_York:20220501T110000
DTSTAMP:20220430T194835Z
URL:https://www.baldwinmemorial.org/events/traditional-service-2022-05-01/
SUMMARY:Combined Service with Special Music
DESCRIPTION:Join us for worship and communion in the stone church for a com
 bined service today\, followed by fellowship time to celebrate Pastor Shan
 a.
LOCATION:BMUMC - Stone Chapel\, 921 Generals Highway\, Millersville\, MD\, 
 21108\, United States
GEO:39.0596584;-76.627343
X-APPLE-STRUCTURED-LOCATION;VALUE=URI;X-ADDRESS=921 Generals Highway\, Mill
 ersville\, MD\, 21108\, United States;X-APPLE-RADIUS=100;X-TITLE=BMUMC - S
 tone Chapel:geo:39.0596584,-76.627343
END:VEVENT
BEGIN:VTIMEZONE
TZID:America/New_York
X-LIC-LOCATION:America/New_York
BEGIN:DAYLIGHT
DTSTART:20220313T030000
TZOFFSETFROM:-0500
TZOFFSETTO:-0400
TZNAME:EDT
END:DAYLIGHT
END:VTIMEZONE
END:VCALENDAR