BEGIN:VCALENDAR
VERSION:2.0
PRODID:-//wp-events-plugin.com//7.2.3.1//EN
TZID:America/New_York
X-WR-TIMEZONE:America/New_York
BEGIN:VEVENT
UID:12812@baldwinmemorial.org
DTSTART;TZID=America/New_York:20220417T060000
DTEND;TZID=America/New_York:20220417T070000
DTSTAMP:20220409T134921Z
URL:https://www.baldwinmemorial.org/events/sunrise-easter-celebration/
SUMMARY:Sunrise Easter Celebration
DESCRIPTION:on the Severn River at Indian Landing Boat Club\, bring a chair
  and dress for the weather
END:VEVENT
BEGIN:VTIMEZONE
TZID:America/New_York
X-LIC-LOCATION:America/New_York
BEGIN:DAYLIGHT
DTSTART:20220313T030000
TZOFFSETFROM:-0500
TZOFFSETTO:-0400
TZNAME:EDT
END:DAYLIGHT
END:VTIMEZONE
END:VCALENDAR