BEGIN:VCALENDAR
VERSION:2.0
PRODID:-//wp-events-plugin.com//7.2.3.1//EN
TZID:America/New_York
X-WR-TIMEZONE:America/New_York
BEGIN:VEVENT
UID:12815@baldwinmemorial.org
DTSTART;TZID=America/New_York:20220522T120000
DTEND;TZID=America/New_York:20220522T133000
DTSTAMP:20220422T185816Z
URL:https://www.baldwinmemorial.org/events/retirement-celebration-for-reve
 rend-tocknell/
SUMMARY:Retirement Celebration for Reverend Tocknell
DESCRIPTION:Combined Service today.  Join us in celebrating Pastor Phil's 
 ministry at Baldwin Memorial for these last 20 years and in wishing him th
 e very best in retirement!  We will have a luncheon reception at 12 noon 
 in Fellowship Hall following the combined service.  RSVPs are required by
  May 15\, 2022 - call or email the church office.
END:VEVENT
BEGIN:VTIMEZONE
TZID:America/New_York
X-LIC-LOCATION:America/New_York
BEGIN:DAYLIGHT
DTSTART:20220313T030000
TZOFFSETFROM:-0500
TZOFFSETTO:-0400
TZNAME:EDT
END:DAYLIGHT
END:VTIMEZONE
END:VCALENDAR