BEGIN:VCALENDAR
VERSION:2.0
PRODID:-//wp-events-plugin.com//7.2.3.1//EN
TZID:America/New_York
X-WR-TIMEZONE:America/New_York
BEGIN:VEVENT
UID:14021@baldwinmemorial.org
DTSTART;TZID=America/New_York:20221224T200000
DTEND;TZID=America/New_York:20221224T210000
DTSTAMP:20221218T001619Z
URL:https://www.baldwinmemorial.org/events/christmas-eve-communion-with-ca
 ndlelight/
SUMMARY:Christmas Eve - Communion with Candlelight
DESCRIPTION:Join us in the Stone Church
END:VEVENT
BEGIN:VTIMEZONE
TZID:America/New_York
X-LIC-LOCATION:America/New_York
BEGIN:STANDARD
DTSTART:20221106T010000
TZOFFSETFROM:-0400
TZOFFSETTO:-0500
TZNAME:EST
END:STANDARD
END:VTIMEZONE
END:VCALENDAR