BEGIN:VCALENDAR
VERSION:2.0
PRODID:-//wp-events-plugin.com//7.2.3.1//EN
TZID:America/New_York
X-WR-TIMEZONE:America/New_York
BEGIN:VEVENT
UID:13491@baldwinmemorial.org
DTSTART;TZID=America/New_York:20221218T130000
DTEND;TZID=America/New_York:20221218T160000
DTSTAMP:20221201T133604Z
URL:https://www.baldwinmemorial.org/events/caroling-at-waugh-chapel-villag
 e-with-refreshments-to-follow-at-education-building/
SUMMARY:Caroling at Waugh Chapel Village with Refreshments to Follow at Edu
 cation Building
DESCRIPTION: Meet in West Parking Lot between 2404 and 2406 Chapel Lake Dri
 ve\, Gambrills.  Please RSVP!
END:VEVENT
BEGIN:VTIMEZONE
TZID:America/New_York
X-LIC-LOCATION:America/New_York
BEGIN:STANDARD
DTSTART:20221106T010000
TZOFFSETFROM:-0400
TZOFFSETTO:-0500
TZNAME:EST
END:STANDARD
END:VTIMEZONE
END:VCALENDAR