BEGIN:VCALENDAR
VERSION:2.0
PRODID:-//wp-events-plugin.com//7.2.3.1//EN
TZID:America/New_York
X-WR-TIMEZONE:America/New_York
BEGIN:VEVENT
UID:13486@baldwinmemorial.org
DTSTART;TZID=America/New_York:20221213T183000
DTEND;TZID=America/New_York:20221213T190000
DTSTAMP:20221201T132925Z
URL:https://www.baldwinmemorial.org/events/admin-council-meeting-limited-p
 urpose-budget-approval/
SUMMARY:Admin Council Meeting (limited purpose - Budget approval)
DESCRIPTION:
END:VEVENT
BEGIN:VTIMEZONE
TZID:America/New_York
X-LIC-LOCATION:America/New_York
BEGIN:STANDARD
DTSTART:20221106T010000
TZOFFSETFROM:-0400
TZOFFSETTO:-0500
TZNAME:EST
END:STANDARD
END:VTIMEZONE
END:VCALENDAR