BEGIN:VCALENDAR
VERSION:2.0
PRODID:-//wp-events-plugin.com//7.2.3.1//EN
TZID:America/New_York
X-WR-TIMEZONE:America/New_York
BEGIN:VEVENT
UID:12820@baldwinmemorial.org
DTSTART;TZID=America/New_York:20220507T120000
DTEND;TZID=America/New_York:20220507T120000
DTSTAMP:20220416T232440Z
URL:https://www.baldwinmemorial.org/events/57th-annual-women-in-faith-form
 erly-united-methodist-women-luncheon/
SUMMARY:57th Annual Women in Faith (formerly United Methodist Women) Lunche
 on
DESCRIPTION:2022 UWF Spring Luncheon Invite-Flyer-3
END:VEVENT
BEGIN:VTIMEZONE
TZID:America/New_York
X-LIC-LOCATION:America/New_York
BEGIN:DAYLIGHT
DTSTART:20220313T030000
TZOFFSETFROM:-0500
TZOFFSETTO:-0400
TZNAME:EDT
END:DAYLIGHT
END:VTIMEZONE
END:VCALENDAR